BEGIN:VCALENDAR
VERSION:2.0
PRODID:-//Noor Collective - San Diego Shia Islamic Center - ECPv5.1.6//NONSGML v1.0//EN
CALSCALE:GREGORIAN
METHOD:PUBLISH
X-WR-CALNAME:Noor Collective - San Diego Shia Islamic Center
X-ORIGINAL-URL:https://noorcollective.org
X-WR-CALDESC:Events for Noor Collective - San Diego Shia Islamic Center
BEGIN:VTIMEZONE
TZID:America/Los_Angeles
BEGIN:DAYLIGHT
TZOFFSETFROM:-0800
TZOFFSETTO:-0700
TZNAME:PDT
DTSTART:20260308T100000
END:DAYLIGHT
BEGIN:STANDARD
TZOFFSETFROM:-0700
TZOFFSETTO:-0800
TZNAME:PST
DTSTART:20261101T090000
END:STANDARD
END:VTIMEZONE
BEGIN:VEVENT
DTSTART;TZID=America/Los_Angeles:20260403T125300
DTEND;TZID=America/Los_Angeles:20260403T140000
DTSTAMP:20260421T090406
CREATED:20260401T223949Z
LAST-MODIFIED:20260401T224016Z
UID:4214-1775220780-1775224800@noorcollective.org
SUMMARY:Jummah Prayer @ 12:53 pm
DESCRIPTION:*🕌 Friday – Jummah Prayer @ 12:50PM* \n🕛 12:53 PM– Khutbah Begins
URL:https://noorcollective.org/event/jummah-prayer-1253pm-2/
END:VEVENT
END:VCALENDAR