BEGIN:VCALENDAR
VERSION:2.0
PRODID:-//Noor Collective - San Diego Shia Islamic Center - ECPv5.1.6//NONSGML v1.0//EN
CALSCALE:GREGORIAN
METHOD:PUBLISH
X-WR-CALNAME:Noor Collective - San Diego Shia Islamic Center
X-ORIGINAL-URL:https://noorcollective.org
X-WR-CALDESC:Events for Noor Collective - San Diego Shia Islamic Center
BEGIN:VTIMEZONE
TZID:America/Los_Angeles
BEGIN:DAYLIGHT
TZOFFSETFROM:-0800
TZOFFSETTO:-0700
TZNAME:PDT
DTSTART:20240310T100000
END:DAYLIGHT
BEGIN:STANDARD
TZOFFSETFROM:-0700
TZOFFSETTO:-0800
TZNAME:PST
DTSTART:20241103T090000
END:STANDARD
END:VTIMEZONE
BEGIN:VEVENT
DTSTART;TZID=America/Los_Angeles:20240223T120500
DTEND;TZID=America/Los_Angeles:20240223T130500
DTSTAMP:20260422T074430
CREATED:20230928T180514Z
LAST-MODIFIED:20240222T211010Z
UID:3681-1708689900-1708693500@noorcollective.org
SUMMARY:Jummah Prayer @ 12:05PM
DESCRIPTION:FRIDAY SCHEDULE:\n12:00PM – Jummah Prayers \nJoin us at 12:00PM on Friday as we hold congregational Friday/Jummah prayers. This will be at our location: 7969 ENGINEER RD #110\, SAN DIEGO\, CA 92111 https://goo.gl/maps/i2HTdSVmLKjW25XR8 \nFor our daytime programs\, Street parking is preferred but if not available park inside the complex. Do not park with spots that have cones in front of them as those are reserved.
URL:https://noorcollective.org/event/jummah-prayer-1pm-5/
ATTACH;FMTTYPE=image/png:https://noorcollective.org/wp-content/uploads/Friday-Prayer-1230.png
END:VEVENT
END:VCALENDAR