BEGIN:VCALENDAR
VERSION:2.0
PRODID:-//Noor Collective - San Diego Shia Islamic Center - ECPv5.1.6//NONSGML v1.0//EN
CALSCALE:GREGORIAN
METHOD:PUBLISH
X-WR-CALNAME:Noor Collective - San Diego Shia Islamic Center
X-ORIGINAL-URL:https://noorcollective.org
X-WR-CALDESC:Events for Noor Collective - San Diego Shia Islamic Center
BEGIN:VTIMEZONE
TZID:America/Los_Angeles
BEGIN:DAYLIGHT
TZOFFSETFROM:-0800
TZOFFSETTO:-0700
TZNAME:PDT
DTSTART:20250309T100000
END:DAYLIGHT
BEGIN:STANDARD
TZOFFSETFROM:-0700
TZOFFSETTO:-0800
TZNAME:PST
DTSTART:20251102T090000
END:STANDARD
END:VTIMEZONE
BEGIN:VEVENT
DTSTART;TZID=America/Los_Angeles:20250926T124500
DTEND;TZID=America/Los_Angeles:20250926T140000
DTSTAMP:20260421T120203
CREATED:20250924T231151Z
LAST-MODIFIED:20250924T231707Z
UID:4170-1758890700-1758895200@noorcollective.org
SUMMARY:Jummah Prayers @ 12:50pm
DESCRIPTION:🕌 *Friday – Jummah Prayer @ 12:45 PM*\n🕛 12:50 PM – Khutbah Begins
URL:https://noorcollective.org/event/jummah-prayers-1245pm/
END:VEVENT
END:VCALENDAR