BEGIN:VCALENDAR
VERSION:2.0
PRODID:-//Noor Collective - San Diego Shia Islamic Center - ECPv5.1.6//NONSGML v1.0//EN
CALSCALE:GREGORIAN
METHOD:PUBLISH
X-WR-CALNAME:Noor Collective - San Diego Shia Islamic Center
X-ORIGINAL-URL:https://noorcollective.org
X-WR-CALDESC:Events for Noor Collective - San Diego Shia Islamic Center
BEGIN:VTIMEZONE
TZID:America/Los_Angeles
BEGIN:DAYLIGHT
TZOFFSETFROM:-0800
TZOFFSETTO:-0700
TZNAME:PDT
DTSTART:20240310T100000
END:DAYLIGHT
BEGIN:STANDARD
TZOFFSETFROM:-0700
TZOFFSETTO:-0800
TZNAME:PST
DTSTART:20241103T090000
END:STANDARD
END:VTIMEZONE
BEGIN:VEVENT
DTSTART;TZID=America/Los_Angeles:20240809T190000
DTEND;TZID=America/Los_Angeles:20240809T203000
DTSTAMP:20260424T011627
CREATED:20240808T173451Z
LAST-MODIFIED:20240808T173451Z
UID:3893-1723230000-1723235400@noorcollective.org
SUMMARY:Karbala: Foundations and Causes
DESCRIPTION:Schedule:\n6:45pm: Door Opens\n7:00pm: Lecture by Seyed Ali Musawi\n8:15pm: Prayers\n8:30pm: Dinner \nAll programs are held at:  7969 ENGINEER RD #110\, SAN DIEGO\, CA 92111 https://goo.gl/maps/i2HTdSVmLKjW25XR8
URL:https://noorcollective.org/event/karbala-foundations-and-causes/
END:VEVENT
END:VCALENDAR