BEGIN:VCALENDAR
VERSION:2.0
PRODID:-//Noor Collective - San Diego Shia Islamic Center - ECPv5.1.6//NONSGML v1.0//EN
CALSCALE:GREGORIAN
METHOD:PUBLISH
X-WR-CALNAME:Noor Collective - San Diego Shia Islamic Center
X-ORIGINAL-URL:https://noorcollective.org
X-WR-CALDESC:Events for Noor Collective - San Diego Shia Islamic Center
BEGIN:VTIMEZONE
TZID:America/Los_Angeles
BEGIN:DAYLIGHT
TZOFFSETFROM:-0800
TZOFFSETTO:-0700
TZNAME:PDT
DTSTART:20190310T100000
END:DAYLIGHT
BEGIN:STANDARD
TZOFFSETFROM:-0700
TZOFFSETTO:-0800
TZNAME:PST
DTSTART:20191103T090000
END:STANDARD
END:VTIMEZONE
BEGIN:VEVENT
DTSTART;TZID=America/Los_Angeles:20190111T190000
DTEND;TZID=America/Los_Angeles:20190111T210000
DTSTAMP:20260422T113350
CREATED:20190107T070534Z
LAST-MODIFIED:20190107T070601Z
UID:2549-1547233200-1547240400@noorcollective.org
SUMMARY:Lady Zainab [A.S] Before Karbala
DESCRIPTION:Lady Zainab [Peace Be Upon Her] is usually reduced to her role in the events following Karbala\, but there is more to her than just that. On her death anniversary this Friday\, we will be discussing her life before Karbala as well as her marriage contract. \nSchedule:\n7:00PM: Speech by Br. Sarmad / Q&A\n8:00PM: Dinner
URL:https://noorcollective.org/event/lady-zainab-s-karbala/
LOCATION:Noor Collective\, 7969 ENGINEER RD #110\, San diego\, CA\, 92111\, United States
CATEGORIES:Lecture
ATTACH;FMTTYPE=image/png:https://noorcollective.org/wp-content/uploads/YMA_JAN11_2019.png
ORGANIZER;CN="Noor%20Collective":MAILTO:sourceseyed@gmail.com
END:VEVENT
END:VCALENDAR