BEGIN:VCALENDAR
VERSION:2.0
PRODID:-//Noor Collective - San Diego Shia Islamic Center - ECPv5.1.6//NONSGML v1.0//EN
CALSCALE:GREGORIAN
METHOD:PUBLISH
X-WR-CALNAME:Noor Collective - San Diego Shia Islamic Center
X-ORIGINAL-URL:https://noorcollective.org
X-WR-CALDESC:Events for Noor Collective - San Diego Shia Islamic Center
BEGIN:VTIMEZONE
TZID:America/Los_Angeles
BEGIN:DAYLIGHT
TZOFFSETFROM:-0800
TZOFFSETTO:-0700
TZNAME:PDT
DTSTART:20200308T100000
END:DAYLIGHT
BEGIN:STANDARD
TZOFFSETFROM:-0700
TZOFFSETTO:-0800
TZNAME:PST
DTSTART:20201101T090000
END:STANDARD
END:VTIMEZONE
BEGIN:VEVENT
DTSTART;TZID=America/Los_Angeles:20200925T193000
DTEND;TZID=America/Los_Angeles:20200925T210000
DTSTAMP:20260423T012414
CREATED:20200902T205222Z
LAST-MODIFIED:20200923T214000Z
UID:3038-1601062200-1601067600@noorcollective.org
SUMMARY:Lessons from Karbala
DESCRIPTION:During this week’s session\, Seyed Ali will be going over some of the most important lessons that we can take away from the story of Karbala. Karbala is more than just ten days of remembrance and mourning—- it is rather a blueprint for how we can be living our lives. \nSchedule:\n7:30-9:00 PM: Speech / Q&A \nZoom Link: https://us02web.zoom.us/j/83496320848?pwd=cXI2ZTJQRXZCNGN0T2plUU5sNFpRUT09 \n\nMeeting ID: 834 9632 0848 \nMeeting Password: 507120
URL:https://noorcollective.org/event/lessons-from-karbala/
CATEGORIES:Lecture
END:VEVENT
END:VCALENDAR