BEGIN:VCALENDAR
VERSION:2.0
PRODID:-//Noor Collective - San Diego Shia Islamic Center - ECPv5.1.6//NONSGML v1.0//EN
CALSCALE:GREGORIAN
METHOD:PUBLISH
X-WR-CALNAME:Noor Collective - San Diego Shia Islamic Center
X-ORIGINAL-URL:https://noorcollective.org
X-WR-CALDESC:Events for Noor Collective - San Diego Shia Islamic Center
BEGIN:VTIMEZONE
TZID:America/Los_Angeles
BEGIN:DAYLIGHT
TZOFFSETFROM:-0800
TZOFFSETTO:-0700
TZNAME:PDT
DTSTART:20170312T100000
END:DAYLIGHT
BEGIN:STANDARD
TZOFFSETFROM:-0700
TZOFFSETTO:-0800
TZNAME:PST
DTSTART:20171105T090000
END:STANDARD
END:VTIMEZONE
BEGIN:VEVENT
DTSTART;TZID=America/Los_Angeles:20170331T190000
DTEND;TZID=America/Los_Angeles:20170331T213000
DTSTAMP:20260421T120240
CREATED:20170306T194053Z
LAST-MODIFIED:20170306T194053Z
UID:1846-1490986800-1490995800@noorcollective.org
SUMMARY:The Life of Imam Naqi (AS)
DESCRIPTION:On the anniversary of his birth\, we will be going over the life of our 10th Imam (AS) and the practical lessons we can learn from him. \nSchedule:\n7:00 PM: Prayer\n7:20 PM: Quran\n7:30 PM: Dua\n7:40 PM: Speech by Sayed Ali/ Q&A\n8:40 PM: Dinner
URL:https://noorcollective.org/event/life-imam-naqi/
LOCATION:Noor Collective\, 7969 ENGINEER RD #110\, San diego\, CA\, 92111\, United States
CATEGORIES:Lecture
ORGANIZER;CN="Noor%20Collective":MAILTO:sourceseyed@gmail.com
END:VEVENT
END:VCALENDAR