BEGIN:VCALENDAR
VERSION:2.0
PRODID:-//Noor Collective - San Diego Shia Islamic Center - ECPv5.1.6//NONSGML v1.0//EN
CALSCALE:GREGORIAN
METHOD:PUBLISH
X-WR-CALNAME:Noor Collective - San Diego Shia Islamic Center
X-ORIGINAL-URL:https://noorcollective.org
X-WR-CALDESC:Events for Noor Collective - San Diego Shia Islamic Center
BEGIN:VTIMEZONE
TZID:America/Los_Angeles
BEGIN:DAYLIGHT
TZOFFSETFROM:-0800
TZOFFSETTO:-0700
TZNAME:PDT
DTSTART:20200308T100000
END:DAYLIGHT
BEGIN:STANDARD
TZOFFSETFROM:-0700
TZOFFSETTO:-0800
TZNAME:PST
DTSTART:20201101T090000
END:STANDARD
END:VTIMEZONE
BEGIN:VEVENT
DTSTART;TZID=America/Los_Angeles:20200214T190000
DTEND;TZID=America/Los_Angeles:20200214T210000
DTSTAMP:20260424T194242
CREATED:20200213T142853Z
LAST-MODIFIED:20200213T143142Z
UID:2894-1581706800-1581714000@noorcollective.org
SUMMARY:Life of Lady Fatimah [Peace Be Upon Her]
DESCRIPTION:In light of it being the birthday of Lady Fatimah [PBUH] this week\, we will be having an in depth discussion on her life. \nSchedule: \n7:00PM: Isha Prayer \n7:20PM: Speech / Q&A \n8:20PM: Dinner & Dessert
URL:https://noorcollective.org/event/life-of-lady-fatimah-peace-be-upon-her/
LOCATION:Noor Collective\, 7969 ENGINEER RD #110\, San diego\, CA\, 92111\, United States
CATEGORIES:Lecture
ATTACH;FMTTYPE=image/png:https://noorcollective.org/wp-content/uploads/YMA_FEB14_2020.png
END:VEVENT
END:VCALENDAR