BEGIN:VCALENDAR
VERSION:2.0
PRODID:-//Noor Collective - San Diego Shia Islamic Center - ECPv5.1.6//NONSGML v1.0//EN
CALSCALE:GREGORIAN
METHOD:PUBLISH
X-WR-CALNAME:Noor Collective - San Diego Shia Islamic Center
X-ORIGINAL-URL:https://noorcollective.org
X-WR-CALDESC:Events for Noor Collective - San Diego Shia Islamic Center
BEGIN:VTIMEZONE
TZID:America/Los_Angeles
BEGIN:DAYLIGHT
TZOFFSETFROM:-0800
TZOFFSETTO:-0700
TZNAME:PDT
DTSTART:20170312T100000
END:DAYLIGHT
BEGIN:STANDARD
TZOFFSETFROM:-0700
TZOFFSETTO:-0800
TZNAME:PST
DTSTART:20171105T090000
END:STANDARD
END:VTIMEZONE
BEGIN:VEVENT
DTSTART;TZID=America/Los_Angeles:20171117T190000
DTEND;TZID=America/Los_Angeles:20171117T210000
DTSTAMP:20260422T015744
CREATED:20171113T200832Z
LAST-MODIFIED:20171113T200832Z
UID:2140-1510945200-1510952400@noorcollective.org
SUMMARY:Martyrdom of Imam Hassan (AS) / Death of the Holy Prophet (AS)
DESCRIPTION:This Friday is the 28th of Safar. This date is more commonly known to be the day where Imam Hassan was martyred and the Holy Prophet passed away on. As such\, the topic will be on key lessons that we can learn from the lives of these two great men. \nSchedule:\n7:00PM: Quran/Dua\n7:15PM: Speech/Q&A\n8:15PM: Dinner
URL:https://noorcollective.org/event/martyrdom-imam-hassan-death-holy-prophet/
LOCATION:Noor Collective\, 7969 ENGINEER RD #110\, San diego\, CA\, 92111\, United States
CATEGORIES:Lecture
ORGANIZER;CN="Noor%20Collective":MAILTO:sourceseyed@gmail.com
END:VEVENT
END:VCALENDAR