BEGIN:VCALENDAR
VERSION:2.0
PRODID:-//Noor Collective - San Diego Shia Islamic Center - ECPv5.1.6//NONSGML v1.0//EN
CALSCALE:GREGORIAN
METHOD:PUBLISH
X-WR-CALNAME:Noor Collective - San Diego Shia Islamic Center
X-ORIGINAL-URL:https://noorcollective.org
X-WR-CALDESC:Events for Noor Collective - San Diego Shia Islamic Center
BEGIN:VTIMEZONE
TZID:America/Los_Angeles
BEGIN:DAYLIGHT
TZOFFSETFROM:-0800
TZOFFSETTO:-0700
TZNAME:PDT
DTSTART:20250309T100000
END:DAYLIGHT
BEGIN:STANDARD
TZOFFSETFROM:-0700
TZOFFSETTO:-0800
TZNAME:PST
DTSTART:20251102T090000
END:STANDARD
END:VTIMEZONE
BEGIN:VEVENT
DTSTART;TZID=America/Los_Angeles:20250412T110000
DTEND;TZID=America/Los_Angeles:20250412T180000
DTSTAMP:20260421T173411
CREATED:20250314T144222Z
LAST-MODIFIED:20250314T150250Z
UID:4050-1744455600-1744480800@noorcollective.org
SUMMARY:Mizan Course: The Mahdi - From Birth to Occultation (Part 1)
DESCRIPTION:📢 Mizan Course on The Mahdi: Birth to Occultation (Part 1)\n🎙 By Shaykh Mahdi Rastani\n📅 Saturday\, April 12 | 11:00 AM – 6:00 PM\n📍 Noor Collective \nOn this blessed Friday\, we are thrilled to announce the first-ever Mizan course in San Diego! At a time when confusion and uncertainty are widespread\, understanding the role of Imam Mahdi (ajtf) is more crucial than ever. \nJoin Shaykh Mahdi Rastani\, one of the most renowned and respected speakers in the Shia world\, for an interactive deep dive into our Shia beliefs about the Imam of our time—covering everything from his birth to his occultation\, and what this means for us today. \n🔗 Sign up today: https://mizaninstitute.org/noorcollective/ \nThis is a rare opportunity to strengthen your knowledge\, connect with like-minded believers\, and prepare for the Imam’s return. Seats are limited—register now before it’s too late!\n💰 Course Price: $30 (includes materials\, lunch & refreshments)\n🤝 Register now\, and if cost is a barrier\, reach out—no one will be turned away.
URL:https://noorcollective.org/event/mizan-course-the-mahdi-from-birth-to-occultation-part-1/
CATEGORIES:Lecture
ATTACH;FMTTYPE=image/jpeg:https://noorcollective.org/wp-content/uploads/WhatsApp-Image-2025-03-09-at-15.55.20_5e8adb98.jpg
END:VEVENT
END:VCALENDAR