BEGIN:VCALENDAR
VERSION:2.0
PRODID:-//Noor Collective - San Diego Shia Islamic Center - ECPv5.1.6//NONSGML v1.0//EN
CALSCALE:GREGORIAN
METHOD:PUBLISH
X-WR-CALNAME:Noor Collective - San Diego Shia Islamic Center
X-ORIGINAL-URL:https://noorcollective.org
X-WR-CALDESC:Events for Noor Collective - San Diego Shia Islamic Center
BEGIN:VTIMEZONE
TZID:America/Los_Angeles
BEGIN:DAYLIGHT
TZOFFSETFROM:-0800
TZOFFSETTO:-0700
TZNAME:PDT
DTSTART:20190310T100000
END:DAYLIGHT
BEGIN:STANDARD
TZOFFSETFROM:-0700
TZOFFSETTO:-0800
TZNAME:PST
DTSTART:20191103T090000
END:STANDARD
END:VTIMEZONE
BEGIN:VEVENT
DTSTART;TZID=America/Los_Angeles:20190125T190000
DTEND;TZID=America/Los_Angeles:20190125T210000
DTSTAMP:20260424T011627
CREATED:20190121T172208Z
LAST-MODIFIED:20190122T033327Z
UID:2559-1548442800-1548450000@noorcollective.org
SUMMARY:Quranic Modesty in an Instagram World
DESCRIPTION:In our first monthly Quran topic\, we’re going to be dissecting modesty [for both men and women] in the Quran. What does the Holy Book say about modesty\, and is it still as relevant in today’s social media filled world? \nWe will be starting at 7pm.
URL:https://noorcollective.org/event/modesty-in-the-quran/
LOCATION:Noor Collective\, 7969 ENGINEER RD #110\, San diego\, CA\, 92111\, United States
CATEGORIES:Lecture
ATTACH;FMTTYPE=image/png:https://noorcollective.org/wp-content/uploads/YMA_JAN25_2019.png
ORGANIZER;CN="Noor%20Collective":MAILTO:sourceseyed@gmail.com
END:VEVENT
END:VCALENDAR