BEGIN:VCALENDAR
VERSION:2.0
PRODID:-//Noor Collective - San Diego Shia Islamic Center - ECPv5.1.6//NONSGML v1.0//EN
CALSCALE:GREGORIAN
METHOD:PUBLISH
X-WR-CALNAME:Noor Collective - San Diego Shia Islamic Center
X-ORIGINAL-URL:https://noorcollective.org
X-WR-CALDESC:Events for Noor Collective - San Diego Shia Islamic Center
BEGIN:VTIMEZONE
TZID:America/Los_Angeles
BEGIN:DAYLIGHT
TZOFFSETFROM:-0800
TZOFFSETTO:-0700
TZNAME:PDT
DTSTART:20180311T100000
END:DAYLIGHT
BEGIN:STANDARD
TZOFFSETFROM:-0700
TZOFFSETTO:-0800
TZNAME:PST
DTSTART:20181104T090000
END:STANDARD
END:VTIMEZONE
BEGIN:VEVENT
DTSTART;TZID=America/Los_Angeles:20180824T200000
DTEND;TZID=America/Los_Angeles:20180824T220000
DTSTAMP:20260421T151400
CREATED:20180824T041713Z
LAST-MODIFIED:20180824T041822Z
UID:2491-1535140800-1535148000@noorcollective.org
SUMMARY:How Much Are You Willing To Sacrifice? The Story of Prophet Abraham & Ismail
DESCRIPTION:Eid ul Adha mubarak! Join us this week as we talk about the story of Prophet Abraham and his son\, Prophet Ismail. What’s the purpose of continuing the practice of sacrificing an animal even after all these years? What’s the wisdom behind it? Is this sacrifice in any way reflective of our wordly desires? \n\n\n \n\n\nThis week’s program is a potluck! If possible\, please bring a dish of your choice (enough for ~5 people).\n\n\n \n\n\nSchedule:\n\n\n8:00 PM: Prayers:\n\n\n8:30 PM: Speech / Q&A\n\n\n9:30 PM: Dinner [Potluck]
URL:https://noorcollective.org/event/much-willing-sacrifice-story-prophet-abraham-ismail/
LOCATION:Noor Collective\, 7969 ENGINEER RD #110\, San diego\, CA\, 92111\, United States
CATEGORIES:Lecture
ATTACH;FMTTYPE=image/png:https://noorcollective.org/wp-content/uploads/YMA_AUG24_2018.png
ORGANIZER;CN="Noor%20Collective":MAILTO:sourceseyed@gmail.com
END:VEVENT
END:VCALENDAR