BEGIN:VCALENDAR
VERSION:2.0
PRODID:-//Noor Collective - San Diego Shia Islamic Center - ECPv5.1.6//NONSGML v1.0//EN
CALSCALE:GREGORIAN
METHOD:PUBLISH
X-WR-CALNAME:Noor Collective - San Diego Shia Islamic Center
X-ORIGINAL-URL:https://noorcollective.org
X-WR-CALDESC:Events for Noor Collective - San Diego Shia Islamic Center
BEGIN:VTIMEZONE
TZID:America/Los_Angeles
BEGIN:DAYLIGHT
TZOFFSETFROM:-0800
TZOFFSETTO:-0700
TZNAME:PDT
DTSTART:20170312T100000
END:DAYLIGHT
BEGIN:STANDARD
TZOFFSETFROM:-0700
TZOFFSETTO:-0800
TZNAME:PST
DTSTART:20171105T090000
END:STANDARD
END:VTIMEZONE
BEGIN:VEVENT
DTSTART;TZID=America/Los_Angeles:20170922T190000
DTEND;TZID=America/Los_Angeles:20171001T213000
DTSTAMP:20260421T141646
CREATED:20170916T071213Z
LAST-MODIFIED:20171001T161029Z
UID:2097-1506106800-1506893400@noorcollective.org
SUMMARY:Muharram 2017 [Updated]
DESCRIPTION:Edit: Our Ashura day program will begin at 10am. There will be no nightly program tonight (Sunday October 1st). \n  \nWe will be offering all-English programs for the first 10 nights of Muharram starting on Friday September 22nd. Our featured speakers include the Hawza educated scholar Sayed Ali Musawi and br. Sarmad Ashoor. \nSchedule:\n7:00 PM: Prayers (Main Hall)\n7:30 PM: Ziyarat-e-Ashura/Quran\n7:45 PM: Speech/Q&A\n8:45 PM: Eulogy/Latmiyya\n9:10 PM: Food (Only from Thursday Sep 28th to Sunday October 1st) \nif you’d like to contribute and receive blessings for donating towards these programs\, you can do so here: http://noorcollective.org/donate/
URL:https://noorcollective.org/event/muharram-2017/
LOCATION:Noor Collective\, 7969 ENGINEER RD #110\, San diego\, CA\, 92111\, United States
CATEGORIES:Lecture
ATTACH;FMTTYPE=image/png:https://noorcollective.org/wp-content/uploads/Flyer1.png
ORGANIZER;CN="Noor%20Collective":MAILTO:sourceseyed@gmail.com
END:VEVENT
END:VCALENDAR