BEGIN:VCALENDAR
VERSION:2.0
PRODID:-//Noor Collective - San Diego Shia Islamic Center - ECPv5.1.6//NONSGML v1.0//EN
CALSCALE:GREGORIAN
METHOD:PUBLISH
X-WR-CALNAME:Noor Collective - San Diego Shia Islamic Center
X-ORIGINAL-URL:https://noorcollective.org
X-WR-CALDESC:Events for Noor Collective - San Diego Shia Islamic Center
BEGIN:VTIMEZONE
TZID:America/Los_Angeles
BEGIN:DAYLIGHT
TZOFFSETFROM:-0800
TZOFFSETTO:-0700
TZNAME:PDT
DTSTART:20180311T100000
END:DAYLIGHT
BEGIN:STANDARD
TZOFFSETFROM:-0700
TZOFFSETTO:-0800
TZNAME:PST
DTSTART:20181104T090000
END:STANDARD
END:VTIMEZONE
BEGIN:VEVENT
DTSTART;TZID=America/Los_Angeles:20180706T200000
DTEND;TZID=America/Los_Angeles:20180706T220000
DTSTAMP:20260421T120526
CREATED:20180704T082348Z
LAST-MODIFIED:20180704T082348Z
UID:2459-1530907200-1530914400@noorcollective.org
SUMMARY:Muslims and American Patriotism [+Potluck]
DESCRIPTION:SCHEDULE CHANGE: We will be beginning our programs with Maghrib at 8pm. \nAs we celebrate Independence Day in America\, the question arises of what it means to be an American Muslim? Are we obligated to attend Iftars at the White House? Should we encourage our children to join the military\, police force\, or perhaps to become politicians instead? What is the Islamic view of Patriotism? \nSchedule:\n8:00PM: Prayer\n8:25PM: Speech by Sayed Ali / Q&A\n9:20PM: Dinner/Potluck.
URL:https://noorcollective.org/event/muslims-american-patriotism-potluck/
LOCATION:Noor Collective\, 7969 ENGINEER RD #110\, San diego\, CA\, 92111\, United States
CATEGORIES:Lecture
ATTACH;FMTTYPE=image/png:https://noorcollective.org/wp-content/uploads/YMA_JUL6_2018.png
ORGANIZER;CN="Noor%20Collective":MAILTO:sourceseyed@gmail.com
END:VEVENT
END:VCALENDAR