BEGIN:VCALENDAR
VERSION:2.0
PRODID:-//Noor Collective - San Diego Shia Islamic Center - ECPv5.1.6//NONSGML v1.0//EN
CALSCALE:GREGORIAN
METHOD:PUBLISH
X-WR-CALNAME:Noor Collective - San Diego Shia Islamic Center
X-ORIGINAL-URL:https://noorcollective.org
X-WR-CALDESC:Events for Noor Collective - San Diego Shia Islamic Center
BEGIN:VTIMEZONE
TZID:America/Los_Angeles
BEGIN:DAYLIGHT
TZOFFSETFROM:-0800
TZOFFSETTO:-0700
TZNAME:PDT
DTSTART:20240310T100000
END:DAYLIGHT
BEGIN:STANDARD
TZOFFSETFROM:-0700
TZOFFSETTO:-0800
TZNAME:PST
DTSTART:20241103T090000
END:STANDARD
END:VTIMEZONE
BEGIN:VEVENT
DTSTART;TZID=America/Los_Angeles:20240823T120000
DTEND;TZID=America/Los_Angeles:20240823T133000
DTSTAMP:20260422T020107
CREATED:20240819T051419Z
LAST-MODIFIED:20240819T051419Z
UID:3905-1724414400-1724419800@noorcollective.org
SUMMARY:No Jummah Prayer This Week
DESCRIPTION:Unfortunately\, there will be no Jummah prayer this week.
URL:https://noorcollective.org/event/no-jummah-prayer-this-week-2/
END:VEVENT
END:VCALENDAR