BEGIN:VCALENDAR
VERSION:2.0
PRODID:-//Noor Collective - San Diego Shia Islamic Center - ECPv5.1.6//NONSGML v1.0//EN
CALSCALE:GREGORIAN
METHOD:PUBLISH
X-WR-CALNAME:Noor Collective - San Diego Shia Islamic Center
X-ORIGINAL-URL:https://noorcollective.org
X-WR-CALDESC:Events for Noor Collective - San Diego Shia Islamic Center
BEGIN:VTIMEZONE
TZID:America/Los_Angeles
BEGIN:DAYLIGHT
TZOFFSETFROM:-0800
TZOFFSETTO:-0700
TZNAME:PDT
DTSTART:20240310T100000
END:DAYLIGHT
BEGIN:STANDARD
TZOFFSETFROM:-0700
TZOFFSETTO:-0800
TZNAME:PST
DTSTART:20241103T090000
END:STANDARD
END:VTIMEZONE
BEGIN:VEVENT
DTSTART;TZID=America/Los_Angeles:20240719T130000
DTEND;TZID=America/Los_Angeles:20240719T140000
DTSTAMP:20260421T182702
CREATED:20240718T232714Z
LAST-MODIFIED:20240718T232714Z
UID:3874-1721394000-1721397600@noorcollective.org
SUMMARY:No Jummah Prayer
DESCRIPTION:Unfortunately\, there is no Jummah prayer this week. Inshallah\, we will start having Jummah prayers again next week\, Friday July 26th
URL:https://noorcollective.org/event/no-jummah-prayer/
END:VEVENT
END:VCALENDAR