BEGIN:VCALENDAR
VERSION:2.0
PRODID:-//Noor Collective - San Diego Shia Islamic Center - ECPv5.1.6//NONSGML v1.0//EN
CALSCALE:GREGORIAN
METHOD:PUBLISH
X-WR-CALNAME:Noor Collective - San Diego Shia Islamic Center
X-ORIGINAL-URL:https://noorcollective.org
X-WR-CALDESC:Events for Noor Collective - San Diego Shia Islamic Center
BEGIN:VTIMEZONE
TZID:America/Los_Angeles
BEGIN:DAYLIGHT
TZOFFSETFROM:-0800
TZOFFSETTO:-0700
TZNAME:PDT
DTSTART:20170312T100000
END:DAYLIGHT
BEGIN:STANDARD
TZOFFSETFROM:-0700
TZOFFSETTO:-0800
TZNAME:PST
DTSTART:20171105T090000
END:STANDARD
END:VTIMEZONE
BEGIN:VEVENT
DTSTART;TZID=America/Los_Angeles:20171222T190000
DTEND;TZID=America/Los_Angeles:20171222T213000
DTSTAMP:20260422T110212
CREATED:20171220T131401Z
LAST-MODIFIED:20171220T131401Z
UID:2164-1513969200-1513978200@noorcollective.org
SUMMARY:No Program Friday Dec 22nd
DESCRIPTION:Just a reminder that there will be no program this Friday December 22nd.  Instead\, we will start again next Friday\, Dec 29th at 7pm. \nSee you all then Inshallah
URL:https://noorcollective.org/event/no-program-friday-dec-22nd/
CATEGORIES:Lecture
END:VEVENT
END:VCALENDAR