BEGIN:VCALENDAR
VERSION:2.0
PRODID:-//Noor Collective - San Diego Shia Islamic Center - ECPv5.1.6//NONSGML v1.0//EN
CALSCALE:GREGORIAN
METHOD:PUBLISH
X-WR-CALNAME:Noor Collective - San Diego Shia Islamic Center
X-ORIGINAL-URL:https://noorcollective.org
X-WR-CALDESC:Events for Noor Collective - San Diego Shia Islamic Center
BEGIN:VTIMEZONE
TZID:America/Los_Angeles
BEGIN:DAYLIGHT
TZOFFSETFROM:-0800
TZOFFSETTO:-0700
TZNAME:PDT
DTSTART:20180311T100000
END:DAYLIGHT
BEGIN:STANDARD
TZOFFSETFROM:-0700
TZOFFSETTO:-0800
TZNAME:PST
DTSTART:20181104T090000
END:STANDARD
END:VTIMEZONE
BEGIN:VEVENT
DTSTART;TZID=America/Los_Angeles:20181228T080000
DTEND;TZID=America/Los_Angeles:20181228T170000
DTSTAMP:20260422T084525
CREATED:20181228T204816Z
LAST-MODIFIED:20181228T204816Z
UID:2543-1545984000-1546016400@noorcollective.org
SUMMARY:NO PROGRAM Friday Dec 28
DESCRIPTION:There is no Noor Collective program tonight. We will continue with our normal programming next week. \nAl-Abbas Combat Academy WILL have it’s normal programming tonight and Sunday evening.
URL:https://noorcollective.org/event/no-program-friday-dec-28/
LOCATION:Noor Collective\, 7969 ENGINEER RD #110\, San diego\, CA\, 92111\, United States
ORGANIZER;CN="Noor%20Collective":MAILTO:sourceseyed@gmail.com
END:VEVENT
END:VCALENDAR