BEGIN:VCALENDAR
VERSION:2.0
PRODID:-//Noor Collective - San Diego Shia Islamic Center - ECPv5.1.6//NONSGML v1.0//EN
CALSCALE:GREGORIAN
METHOD:PUBLISH
X-WR-CALNAME:Noor Collective - San Diego Shia Islamic Center
X-ORIGINAL-URL:https://noorcollective.org
X-WR-CALDESC:Events for Noor Collective - San Diego Shia Islamic Center
BEGIN:VTIMEZONE
TZID:America/Los_Angeles
BEGIN:DAYLIGHT
TZOFFSETFROM:-0800
TZOFFSETTO:-0700
TZNAME:PDT
DTSTART:20210314T100000
END:DAYLIGHT
BEGIN:STANDARD
TZOFFSETFROM:-0700
TZOFFSETTO:-0800
TZNAME:PST
DTSTART:20211107T090000
END:STANDARD
END:VTIMEZONE
BEGIN:VEVENT
DTSTART;TZID=America/Los_Angeles:20210219T193000
DTEND;TZID=America/Los_Angeles:20210219T213000
DTSTAMP:20260421T120242
CREATED:20210217T014141Z
LAST-MODIFIED:20210217T014141Z
UID:3198-1613763000-1613770200@noorcollective.org
SUMMARY:NO PROGRAM on Friday Feb 19
DESCRIPTION:Salam Alaykum everyone! We will not be having a program this Friday February 19. \nInshallah our next program will be next Friday\, Feb 26th.
URL:https://noorcollective.org/event/no-program-on-friday-feb-19/
END:VEVENT
END:VCALENDAR