BEGIN:VCALENDAR
VERSION:2.0
PRODID:-//Noor Collective - San Diego Shia Islamic Center - ECPv5.1.6//NONSGML v1.0//EN
CALSCALE:GREGORIAN
METHOD:PUBLISH
X-WR-CALNAME:Noor Collective - San Diego Shia Islamic Center
X-ORIGINAL-URL:https://noorcollective.org
X-WR-CALDESC:Events for Noor Collective - San Diego Shia Islamic Center
BEGIN:VTIMEZONE
TZID:America/Los_Angeles
BEGIN:DAYLIGHT
TZOFFSETFROM:-0800
TZOFFSETTO:-0700
TZNAME:PDT
DTSTART:20210314T100000
END:DAYLIGHT
BEGIN:STANDARD
TZOFFSETFROM:-0700
TZOFFSETTO:-0800
TZNAME:PST
DTSTART:20211107T090000
END:STANDARD
END:VTIMEZONE
BEGIN:VEVENT
DTSTART;TZID=America/Los_Angeles:20210723T190000
DTEND;TZID=America/Los_Angeles:20210723T210000
DTSTAMP:20260422T022841
CREATED:20210721T172955Z
LAST-MODIFIED:20210721T172955Z
UID:3317-1627066800-1627074000@noorcollective.org
SUMMARY:NO PROGRAM This Friday 7/23
DESCRIPTION:Salam Alaykum everyone! We will not be having a program this Friday July 23rd. \nInshallah our next program will be next Friday\, July 30th
URL:https://noorcollective.org/event/no-program-this-friday-7-23/
CATEGORIES:Lecture
END:VEVENT
END:VCALENDAR