BEGIN:VCALENDAR
VERSION:2.0
PRODID:-//Noor Collective - San Diego Shia Islamic Center - ECPv5.1.6//NONSGML v1.0//EN
CALSCALE:GREGORIAN
METHOD:PUBLISH
X-WR-CALNAME:Noor Collective - San Diego Shia Islamic Center
X-ORIGINAL-URL:https://noorcollective.org
X-WR-CALDESC:Events for Noor Collective - San Diego Shia Islamic Center
BEGIN:VTIMEZONE
TZID:America/Los_Angeles
BEGIN:DAYLIGHT
TZOFFSETFROM:-0800
TZOFFSETTO:-0700
TZNAME:PDT
DTSTART:20220313T100000
END:DAYLIGHT
BEGIN:STANDARD
TZOFFSETFROM:-0700
TZOFFSETTO:-0800
TZNAME:PST
DTSTART:20221106T090000
END:STANDARD
END:VTIMEZONE
BEGIN:VEVENT
DTSTART;TZID=America/Los_Angeles:20220520T080000
DTEND;TZID=America/Los_Angeles:20220527T170000
DTSTAMP:20260422T180805
CREATED:20220519T225146Z
LAST-MODIFIED:20220519T225146Z
UID:3449-1653033600-1653670800@noorcollective.org
SUMMARY:No program this week
DESCRIPTION:Salaam Allaikum\,\nDue to traveling\, we will not be having programs for the next two weeks. Our next program will be on Friday June 3rd.
URL:https://noorcollective.org/event/no-program-this-week/
CATEGORIES:Lecture
END:VEVENT
END:VCALENDAR