BEGIN:VCALENDAR
VERSION:2.0
PRODID:-//Noor Collective - San Diego Shia Islamic Center - ECPv5.1.6//NONSGML v1.0//EN
CALSCALE:GREGORIAN
METHOD:PUBLISH
X-WR-CALNAME:Noor Collective - San Diego Shia Islamic Center
X-ORIGINAL-URL:https://noorcollective.org
X-WR-CALDESC:Events for Noor Collective - San Diego Shia Islamic Center
BEGIN:VTIMEZONE
TZID:America/Los_Angeles
BEGIN:DAYLIGHT
TZOFFSETFROM:-0800
TZOFFSETTO:-0700
TZNAME:PDT
DTSTART:20200308T100000
END:DAYLIGHT
BEGIN:STANDARD
TZOFFSETFROM:-0700
TZOFFSETTO:-0800
TZNAME:PST
DTSTART:20201101T090000
END:STANDARD
END:VTIMEZONE
BEGIN:VEVENT
DTSTART;TZID=America/Los_Angeles:20200410T200000
DTEND;TZID=America/Los_Angeles:20200410T210000
DTSTAMP:20260425T055045
CREATED:20200407T231955Z
LAST-MODIFIED:20200411T024449Z
UID:2922-1586548800-1586552400@noorcollective.org
SUMMARY:[Online Lecture] Imam Mahdi (a): The Coming Revolution
DESCRIPTION:In honor of Imam Mahdi’s (PBUH) birthday\, Seyed Ali will be discussing the coming revolution. \nIMPORTANT: HOW TO JOIN \n\nPlease download Zoom here on your desktop or download the corresponding app for Android or iOS.\nJoin Zoom Meeting: https://us04web.zoom.us/j/991912952?pwd=anN1YU4yZ3Z5c2NSM1puVUZhVmpKQT09\nMeeting ID: 991-912-952\nPassword:  3OtLMG\n\nSchedule: \nSpeech / Q&A :  8:00PM- 9:00PM \n 
URL:https://noorcollective.org/event/online-lecture-imam-mahdi-a-the-coming-revolution/
LOCATION:Zoom
END:VEVENT
END:VCALENDAR