BEGIN:VCALENDAR
VERSION:2.0
PRODID:-//Noor Collective - San Diego Shia Islamic Center - ECPv5.1.6//NONSGML v1.0//EN
CALSCALE:GREGORIAN
METHOD:PUBLISH
X-WR-CALNAME:Noor Collective - San Diego Shia Islamic Center
X-ORIGINAL-URL:https://noorcollective.org
X-WR-CALDESC:Events for Noor Collective - San Diego Shia Islamic Center
BEGIN:VTIMEZONE
TZID:America/Los_Angeles
BEGIN:DAYLIGHT
TZOFFSETFROM:-0800
TZOFFSETTO:-0700
TZNAME:PDT
DTSTART:20200308T100000
END:DAYLIGHT
BEGIN:STANDARD
TZOFFSETFROM:-0700
TZOFFSETTO:-0800
TZNAME:PST
DTSTART:20201101T090000
END:STANDARD
END:VTIMEZONE
BEGIN:VEVENT
DTSTART;TZID=America/Los_Angeles:20200417T200000
DTEND;TZID=America/Los_Angeles:20200417T210000
DTSTAMP:20260425T060146
CREATED:20200416T033256Z
LAST-MODIFIED:20200417T004204Z
UID:2928-1587153600-1587157200@noorcollective.org
SUMMARY:[Online Lecture] The Month of Reconnecting to our Creator
DESCRIPTION:Ramadan will be upon us next week inshAllah. In this week’s program\, Seyed Ali will be going over several ways we can welcome in the Holy Month amidst all the chaos we are currently living through. \nIMPORTANT: HOW TO JOIN \n\nPlease download Zoom here on your desktop or download the corresponding app for Android or iOS.\nJoin Zoom Meeting: https://us04web.zoom.us/j/991912952?pwd=anN1YU4yZ3Z5c2NSM1puVUZhVmpKQT09\nMeeting ID: 991-912-952\nPassword:  3OtLMG\n\nSchedule: \nSpeech / Q&A :  8:00PM- 9:00PM \n  \n 
URL:https://noorcollective.org/event/online-lecture-the-month-of-reconnecting-to-our-creator/
CATEGORIES:Lecture
END:VEVENT
END:VCALENDAR