BEGIN:VCALENDAR
VERSION:2.0
PRODID:-//Noor Collective - San Diego Shia Islamic Center - ECPv5.1.6//NONSGML v1.0//EN
CALSCALE:GREGORIAN
METHOD:PUBLISH
X-WR-CALNAME:Noor Collective - San Diego Shia Islamic Center
X-ORIGINAL-URL:https://noorcollective.org
X-WR-CALDESC:Events for Noor Collective - San Diego Shia Islamic Center
BEGIN:VTIMEZONE
TZID:America/Los_Angeles
BEGIN:DAYLIGHT
TZOFFSETFROM:-0800
TZOFFSETTO:-0700
TZNAME:PDT
DTSTART:20200308T100000
END:DAYLIGHT
BEGIN:STANDARD
TZOFFSETFROM:-0700
TZOFFSETTO:-0800
TZNAME:PST
DTSTART:20201101T090000
END:STANDARD
END:VTIMEZONE
BEGIN:VEVENT
DTSTART;TZID=America/Los_Angeles:20200605T190000
DTEND;TZID=America/Los_Angeles:20200605T203000
DTSTAMP:20260425T060242
CREATED:20200603T005330Z
LAST-MODIFIED:20200605T030221Z
UID:2978-1591383600-1591389000@noorcollective.org
SUMMARY:[Online] Understanding Islamic Social Justice in Light of The Murder of George Floyd by Shaykh Husayn Mekki
DESCRIPTION:We’re honored to to have Shaykh Husayn Mekki speaking this Friday on the topic of ‘Understanding Islamic Social Justice in Light of The Murder of George Floyd.’ \nBio: Shaykh Husayn Mekki received his Masters degree in Islamic studies at I.C.A.S. (Islamic College for Advanced Studies) and also studied at the Islamic Seminary of Qom for several years. He’s currently a PHD candidate at the University of Denver studying ‘Education Leadership and Policy Studies.’ \nSchedule: 7:00-8:15pm PST: Speech / Q&A\nFind out the event time in your time zone here: https://bit.ly/2XA0kdZ \nZoom Link: https://us02web.zoom.us/j/87927020384?pwd=REpmZHkzVUlKem9acEl2SSsyYWJKZz09 \nMeeting ID: 879 2702 0384\nMeeting password: 303816
URL:https://noorcollective.org/event/online-understanding-islamic-social-justice-in-light-of-the-murder-of-george-floyd-by-shaykh-husayn-mekki/
CATEGORIES:Lecture
ATTACH;FMTTYPE=image/png:https://noorcollective.org/wp-content/uploads/YMA_JUN5_2020.png
END:VEVENT
END:VCALENDAR