BEGIN:VCALENDAR
VERSION:2.0
PRODID:-//Noor Collective - San Diego Shia Islamic Center - ECPv5.1.6//NONSGML v1.0//EN
CALSCALE:GREGORIAN
METHOD:PUBLISH
X-WR-CALNAME:Noor Collective - San Diego Shia Islamic Center
X-ORIGINAL-URL:https://noorcollective.org
X-WR-CALDESC:Events for Noor Collective - San Diego Shia Islamic Center
BEGIN:VTIMEZONE
TZID:America/Los_Angeles
BEGIN:DAYLIGHT
TZOFFSETFROM:-0800
TZOFFSETTO:-0700
TZNAME:PDT
DTSTART:20210314T100000
END:DAYLIGHT
BEGIN:STANDARD
TZOFFSETFROM:-0700
TZOFFSETTO:-0800
TZNAME:PST
DTSTART:20211107T090000
END:STANDARD
END:VTIMEZONE
BEGIN:VEVENT
DTSTART;TZID=America/Los_Angeles:20210716T190000
DTEND;TZID=America/Los_Angeles:20210716T200000
DTSTAMP:20260422T005145
CREATED:20210717T020006Z
LAST-MODIFIED:20210713T190950Z
UID:3311-1626462000-1626465600@noorcollective.org
SUMMARY:Only God Can Judge Me Part 2
DESCRIPTION:In this week’s program\, we will be continuing our discussion on judgment in Islam\, the limits when it comes to judging and what is the Quranic perspective on this issue? How can we better help ourselves in avoiding judging others in a negative way? \nSchedule: \n7:00PM PST: Speech/Q&A by Seyed Ali \nOnline Zoom Link:  https://us02web.zoom.us/j/87321607906?pwd=d1A5azJGU1pEMUtPR2pxM2RIeXZOQT09 \nPassword: 294869 \nMeeting Id: 873 2160 7906
URL:https://noorcollective.org/event/only-god-can-judge-me-part-2/
CATEGORIES:Lecture
ATTACH;FMTTYPE=image/jpeg:https://noorcollective.org/wp-content/uploads/YMA_JUL9_2021.jpg
END:VEVENT
END:VCALENDAR