BEGIN:VCALENDAR
VERSION:2.0
PRODID:-//Noor Collective - San Diego Shia Islamic Center - ECPv5.1.6//NONSGML v1.0//EN
CALSCALE:GREGORIAN
METHOD:PUBLISH
X-WR-CALNAME:Noor Collective - San Diego Shia Islamic Center
X-ORIGINAL-URL:https://noorcollective.org
X-WR-CALDESC:Events for Noor Collective - San Diego Shia Islamic Center
BEGIN:VTIMEZONE
TZID:America/Los_Angeles
BEGIN:DAYLIGHT
TZOFFSETFROM:-0800
TZOFFSETTO:-0700
TZNAME:PDT
DTSTART:20210314T100000
END:DAYLIGHT
BEGIN:STANDARD
TZOFFSETFROM:-0700
TZOFFSETTO:-0800
TZNAME:PST
DTSTART:20211107T090000
END:STANDARD
END:VTIMEZONE
BEGIN:VEVENT
DTSTART;TZID=America/Los_Angeles:20210702T190000
DTEND;TZID=America/Los_Angeles:20210702T200000
DTSTAMP:20260421T230110
CREATED:20210702T043641Z
LAST-MODIFIED:20210702T043641Z
UID:3308-1625252400-1625256000@noorcollective.org
SUMMARY:Only God Can Judge Me
DESCRIPTION:When it comes to judgment in Islam\, are we allowed to judge others or not? What are the limits when it comes to judging and what is the Quranic perspective on this issue? How can we better help ourselves in avoiding judging others in a negative way? Join us this week as we dive deep into this important issue. \nSchedule: \n7:00PM PST: Speech/Q&A by Seyed Ali \nOnline Zoom Link:  https://us02web.zoom.us/j/84468070311?pwd=Z2hZbHc3WG1JYUpOM1Z3djlpcFRNdz09 \nPassword:  780678 \nMeeting Id:  844 6807 0311
URL:https://noorcollective.org/event/only-god-can-judge-me/
CATEGORIES:Lecture
ATTACH;FMTTYPE=image/png:https://noorcollective.org/wp-content/uploads/YMA_JUL2_2021.png
END:VEVENT
END:VCALENDAR