BEGIN:VCALENDAR
VERSION:2.0
PRODID:-//Noor Collective - San Diego Shia Islamic Center - ECPv5.1.6//NONSGML v1.0//EN
CALSCALE:GREGORIAN
METHOD:PUBLISH
X-WR-CALNAME:Noor Collective - San Diego Shia Islamic Center
X-ORIGINAL-URL:https://noorcollective.org
X-WR-CALDESC:Events for Noor Collective - San Diego Shia Islamic Center
BEGIN:VTIMEZONE
TZID:America/Los_Angeles
BEGIN:DAYLIGHT
TZOFFSETFROM:-0800
TZOFFSETTO:-0700
TZNAME:PDT
DTSTART:20250309T100000
END:DAYLIGHT
BEGIN:STANDARD
TZOFFSETFROM:-0700
TZOFFSETTO:-0800
TZNAME:PST
DTSTART:20251102T090000
END:STANDARD
END:VTIMEZONE
BEGIN:VEVENT
DTSTART;TZID=America/Los_Angeles:20250221T190000
DTEND;TZID=America/Los_Angeles:20250221T210000
DTSTAMP:20260421T185640
CREATED:20250220T164654Z
LAST-MODIFIED:20250220T164704Z
UID:4040-1740164400-1740171600@noorcollective.org
SUMMARY:Preparing for Ramadan
DESCRIPTION:In our final Friday program before Ramadan\, join us as Seyed Ali goes over how we can properly prepare ourselves for the upcoming Holy Month! \n  \nSchedule: \n7:00pm: Isha Prayers \n7:15pm: Quran \n7:25pm: Lecture / Q&A \n8:30pm: Dinner
URL:https://noorcollective.org/event/preparing-for-ramadan-2/
CATEGORIES:Lecture
END:VEVENT
END:VCALENDAR