BEGIN:VCALENDAR
VERSION:2.0
PRODID:-//Noor Collective - San Diego Shia Islamic Center - ECPv5.1.6//NONSGML v1.0//EN
CALSCALE:GREGORIAN
METHOD:PUBLISH
X-WR-CALNAME:Noor Collective - San Diego Shia Islamic Center
X-ORIGINAL-URL:https://noorcollective.org
X-WR-CALDESC:Events for Noor Collective - San Diego Shia Islamic Center
BEGIN:VTIMEZONE
TZID:America/Los_Angeles
BEGIN:DAYLIGHT
TZOFFSETFROM:-0800
TZOFFSETTO:-0700
TZNAME:PDT
DTSTART:20230312T100000
END:DAYLIGHT
BEGIN:STANDARD
TZOFFSETFROM:-0700
TZOFFSETTO:-0800
TZNAME:PST
DTSTART:20231105T090000
END:STANDARD
END:VTIMEZONE
BEGIN:VEVENT
DTSTART;TZID=America/Los_Angeles:20230317T190000
DTEND;TZID=America/Los_Angeles:20230317T200000
DTSTAMP:20260422T133254
CREATED:20230315T180110Z
LAST-MODIFIED:20230315T180547Z
UID:3543-1679079600-1679083200@noorcollective.org
SUMMARY:Preparing For The Holy Month of Ramadan
DESCRIPTION:Come join us this Friday at 7 PM PST as we prepare for the Holy Month of Ramadan! \nZoom link: https://us02web.zoom.us/j/85016107896?pwd=N0hIOFZUaHhLK0tHMlBaaWExQXBmUT09\nMeeting ID: 850 1610 7896\nPasscode: 571355
URL:https://noorcollective.org/event/preparing-for-the-holy-month-of-ramadan/
CATEGORIES:Lecture
ATTACH;FMTTYPE=image/png:https://noorcollective.org/wp-content/uploads/YMA_MAR17_2023.png
END:VEVENT
END:VCALENDAR