BEGIN:VCALENDAR
VERSION:2.0
PRODID:-//Noor Collective - San Diego Shia Islamic Center - ECPv5.1.6//NONSGML v1.0//EN
CALSCALE:GREGORIAN
METHOD:PUBLISH
X-WR-CALNAME:Noor Collective - San Diego Shia Islamic Center
X-ORIGINAL-URL:https://noorcollective.org
X-WR-CALDESC:Events for Noor Collective - San Diego Shia Islamic Center
BEGIN:VTIMEZONE
TZID:America/Los_Angeles
BEGIN:DAYLIGHT
TZOFFSETFROM:-0800
TZOFFSETTO:-0700
TZNAME:PDT
DTSTART:20210314T100000
END:DAYLIGHT
BEGIN:STANDARD
TZOFFSETFROM:-0700
TZOFFSETTO:-0800
TZNAME:PST
DTSTART:20211107T090000
END:STANDARD
END:VTIMEZONE
BEGIN:VEVENT
DTSTART;TZID=America/Los_Angeles:20210402T193000
DTEND;TZID=America/Los_Angeles:20210402T193000
DTSTAMP:20260421T133645
CREATED:20210401T082618Z
LAST-MODIFIED:20210401T082618Z
UID:3222-1617391800-1617391800@noorcollective.org
SUMMARY:Preparing Ourselves for the Month of Ramadhan
DESCRIPTION:Ramadhan is nearly upon us. In this week’s program\, Seyed Ali will be going over a few ways we can prepare ourselves for the Holy Month. \nSchedule: \n7:30PM PST: Speech/Q&A by Seyed Ali \nOnline Zoom Link:  https://us02web.zoom.us/j/82780130563?pwd=ZFRraE50c3hlY1BGR05LTlgydlZodz09 \nPassword: 460286 \nMeeting Id:  827 8013 0563
URL:https://noorcollective.org/event/preparing-ourselves-for-the-month-of-ramadhan/
CATEGORIES:Lecture
END:VEVENT
END:VCALENDAR