BEGIN:VCALENDAR
VERSION:2.0
PRODID:-//Noor Collective - San Diego Shia Islamic Center - ECPv5.1.6//NONSGML v1.0//EN
CALSCALE:GREGORIAN
METHOD:PUBLISH
X-WR-CALNAME:Noor Collective - San Diego Shia Islamic Center
X-ORIGINAL-URL:https://noorcollective.org
X-WR-CALDESC:Events for Noor Collective - San Diego Shia Islamic Center
BEGIN:VTIMEZONE
TZID:America/Los_Angeles
BEGIN:DAYLIGHT
TZOFFSETFROM:-0800
TZOFFSETTO:-0700
TZNAME:PDT
DTSTART:20220313T100000
END:DAYLIGHT
BEGIN:STANDARD
TZOFFSETFROM:-0700
TZOFFSETTO:-0800
TZNAME:PST
DTSTART:20221106T090000
END:STANDARD
END:VTIMEZONE
BEGIN:VEVENT
DTSTART;TZID=America/Los_Angeles:20220722T190000
DTEND;TZID=America/Los_Angeles:20220722T200000
DTSTAMP:20260422T180935
CREATED:20220721T215041Z
LAST-MODIFIED:20220721T215114Z
UID:3481-1658516400-1658520000@noorcollective.org
SUMMARY:Preparing The Hearts For Muharram
DESCRIPTION:The month of Muharram is almost upon us! In this week’s event\, we’ll be going over several ways to purify and prepare our hearts so that we can reach our full potential this month. \nZoom link:  https://us02web.zoom.us/j/81985005080?pwd=dWtSZUxtZ1JuaVlneEcvRTNON1Vodz09 \nMeeting ID: 819 8500 5080 \n\n\n\n\n\n\n\nPasscode: 218357
URL:https://noorcollective.org/event/preparing-the-hearts-for-muharram/
CATEGORIES:Lecture
ATTACH;FMTTYPE=image/png:https://noorcollective.org/wp-content/uploads/YMA_JUL22_2022.png
END:VEVENT
END:VCALENDAR