BEGIN:VCALENDAR
VERSION:2.0
PRODID:-//Noor Collective - San Diego Shia Islamic Center - ECPv5.1.6//NONSGML v1.0//EN
CALSCALE:GREGORIAN
METHOD:PUBLISH
X-WR-CALNAME:Noor Collective - San Diego Shia Islamic Center
X-ORIGINAL-URL:https://noorcollective.org
X-WR-CALDESC:Events for Noor Collective - San Diego Shia Islamic Center
BEGIN:VTIMEZONE
TZID:America/Los_Angeles
BEGIN:DAYLIGHT
TZOFFSETFROM:-0800
TZOFFSETTO:-0700
TZNAME:PDT
DTSTART:20190310T100000
END:DAYLIGHT
BEGIN:STANDARD
TZOFFSETFROM:-0700
TZOFFSETTO:-0800
TZNAME:PST
DTSTART:20191103T090000
END:STANDARD
END:VTIMEZONE
BEGIN:VEVENT
DTSTART;TZID=America/Los_Angeles:20190215T190000
DTEND;TZID=America/Los_Angeles:20190215T210000
DTSTAMP:20260424T044500
CREATED:20190211T211407Z
LAST-MODIFIED:20190211T211407Z
UID:2575-1550257200-1550264400@noorcollective.org
SUMMARY:Problems With Punctuality And Promises?
DESCRIPTION:Muslim communities all around the world suffer from issues with punctuality and the breaking of promises. How many times have you heard ‘Inshallah\, i’ll be there’ only for that person to not show up or show up several hours late? In this week’s program\, we’ll be going over what the Ahlul Bayt had to say about these two issues. \n\n\n \n\n\nSchedule:\n\n\n7:00PM Speech by Br. Sarmad. \n\n\n8:00PM Dinner
URL:https://noorcollective.org/event/problems-with-punctuality-and-promises/
LOCATION:Noor Collective\, 7969 ENGINEER RD #110\, San diego\, CA\, 92111\, United States
CATEGORIES:Lecture
END:VEVENT
END:VCALENDAR