BEGIN:VCALENDAR
VERSION:2.0
PRODID:-//Noor Collective - San Diego Shia Islamic Center - ECPv5.1.6//NONSGML v1.0//EN
CALSCALE:GREGORIAN
METHOD:PUBLISH
X-WR-CALNAME:Noor Collective - San Diego Shia Islamic Center
X-ORIGINAL-URL:https://noorcollective.org
X-WR-CALDESC:Events for Noor Collective - San Diego Shia Islamic Center
BEGIN:VTIMEZONE
TZID:America/Los_Angeles
BEGIN:DAYLIGHT
TZOFFSETFROM:-0800
TZOFFSETTO:-0700
TZNAME:PDT
DTSTART:20210314T100000
END:DAYLIGHT
BEGIN:STANDARD
TZOFFSETFROM:-0700
TZOFFSETTO:-0800
TZNAME:PST
DTSTART:20211107T090000
END:STANDARD
END:VTIMEZONE
BEGIN:VEVENT
DTSTART;TZID=America/Los_Angeles:20211105T193000
DTEND;TZID=America/Los_Angeles:20211105T203000
DTSTAMP:20260422T115101
CREATED:20211105T044404Z
LAST-MODIFIED:20211105T044452Z
UID:3341-1636140600-1636144200@noorcollective.org
SUMMARY:Prophetic Positivity
DESCRIPTION:Join us Friday as we go over the akhlaq of the Prophet (s). Was the Prophet more of an optimist\, a pessimist\, or a realist? How do holding such perspectives affect us in our lives today? And finally\, what are some examples of how the Prophet would show and implement his attitude in the early Muslim community. \nSchedule: \n7:30pm PST: Speech/Q&A \nZoom Link:  https://us02web.zoom.us/j/85843679230?pwd=UVdqMkVCUmxtSVZxREN6VTZtTkEyUT09 \nPassword: 815547 \nMeeting ID: \n\n\n858 4367 9230
URL:https://noorcollective.org/event/prophetic-positivity/
CATEGORIES:Lecture
END:VEVENT
END:VCALENDAR