BEGIN:VCALENDAR
VERSION:2.0
PRODID:-//Noor Collective - San Diego Shia Islamic Center - ECPv5.1.6//NONSGML v1.0//EN
CALSCALE:GREGORIAN
METHOD:PUBLISH
X-WR-CALNAME:Noor Collective - San Diego Shia Islamic Center
X-ORIGINAL-URL:https://noorcollective.org
X-WR-CALDESC:Events for Noor Collective - San Diego Shia Islamic Center
BEGIN:VTIMEZONE
TZID:America/Los_Angeles
BEGIN:DAYLIGHT
TZOFFSETFROM:-0800
TZOFFSETTO:-0700
TZNAME:PDT
DTSTART:20240310T100000
END:DAYLIGHT
BEGIN:STANDARD
TZOFFSETFROM:-0700
TZOFFSETTO:-0800
TZNAME:PST
DTSTART:20241103T090000
END:STANDARD
END:VTIMEZONE
BEGIN:VEVENT
DTSTART;TZID=America/Los_Angeles:20240315T190000
DTEND;TZID=America/Los_Angeles:20240410T170000
DTSTAMP:20260422T090721
CREATED:20240312T044756Z
LAST-MODIFIED:20240312T044918Z
UID:3766-1710529200-1712768400@noorcollective.org
SUMMARY:Ramadan Programs 2024
DESCRIPTION:Salam Alaykum and Ramadan Kareem to all of you! \nOur Ramadan programs will begin on Friday\, March 15th at Maghrib with prayers\, followed by dinner\, and a speech. The complete schedule of programs is as follows: \nFriday\, March 15th \nSaturday\, March 16th \nFriday\, March 22nd \nSaturday\, March 23rd \nand then every night until Eid beginning from Friday\, March 29th. \n\n\n\nSaturday\, March 30\n\n\nSunday\, March 31\n\n\nMonday\, April 1\n\n\nTuesday\, April 2\n\n\nWednesday\, April 3\n\n\nThursday\, April 4\n\n\nFriday\, April 5\n\n\nSaturday\, April 6\n\n\nSunday\, April 7\n\n\nMonday\, April 8\n\n\nTuesday\, April 9\n\n\n\n  \nAddress: 7969 ENGINEER RD #110\, SAN DIEGO\, CA 92111 https://goo.gl/maps/i2HTdSVmLKjW25XR8
URL:https://noorcollective.org/event/ramadan-programs-2024/
LOCATION:Noor Collective\, 7969 ENGINEER RD #110\, San diego\, CA\, 92111\, United States
CATEGORIES:Lecture
END:VEVENT
END:VCALENDAR