BEGIN:VCALENDAR
VERSION:2.0
PRODID:-//Noor Collective - San Diego Shia Islamic Center - ECPv5.1.6//NONSGML v1.0//EN
CALSCALE:GREGORIAN
METHOD:PUBLISH
X-WR-CALNAME:Noor Collective - San Diego Shia Islamic Center
X-ORIGINAL-URL:https://noorcollective.org
X-WR-CALDESC:Events for Noor Collective - San Diego Shia Islamic Center
BEGIN:VTIMEZONE
TZID:America/Los_Angeles
BEGIN:DAYLIGHT
TZOFFSETFROM:-0800
TZOFFSETTO:-0700
TZNAME:PDT
DTSTART:20170312T100000
END:DAYLIGHT
BEGIN:STANDARD
TZOFFSETFROM:-0700
TZOFFSETTO:-0800
TZNAME:PST
DTSTART:20171105T090000
END:STANDARD
END:VTIMEZONE
BEGIN:VEVENT
DTSTART;TZID=America/Los_Angeles:20170915T193000
DTEND;TZID=America/Los_Angeles:20170915T220000
DTSTAMP:20260421T122935
CREATED:20170907T230541Z
LAST-MODIFIED:20170907T230541Z
UID:2091-1505503800-1505512800@noorcollective.org
SUMMARY:The Significance of Eid al-Mubahalah
DESCRIPTION:“Should anyone argue with you concerning him\, after the knowledge that has come to you\, then say: ‘Come! Let us call our sons and your sons\, our women and your women\, our souls and your souls\, then let us pray earnestly and call down Allah’s curse upon the liars’. (Qur’an 3:61)” \nMost of have read this verse about the events that unfolded at Mubahala and yet few of us completely understand the significance of the event itself. How is this event that occurred 1400 years ago relevant to us as Shias and how relevant is it to our lives today? \nSchedule:\n7:30PM: Prayers\n8:00PM: Dinner\n8:30PM: Lecture by Br. Sarmad / Q&A
URL:https://noorcollective.org/event/significance-eid-al-mubahalah/
CATEGORIES:Lecture
END:VEVENT
END:VCALENDAR