BEGIN:VCALENDAR
VERSION:2.0
PRODID:-//Noor Collective - San Diego Shia Islamic Center - ECPv5.1.6//NONSGML v1.0//EN
CALSCALE:GREGORIAN
METHOD:PUBLISH
X-WR-CALNAME:Noor Collective - San Diego Shia Islamic Center
X-ORIGINAL-URL:https://noorcollective.org
X-WR-CALDESC:Events for Noor Collective - San Diego Shia Islamic Center
BEGIN:VTIMEZONE
TZID:America/Los_Angeles
BEGIN:DAYLIGHT
TZOFFSETFROM:-0800
TZOFFSETTO:-0700
TZNAME:PDT
DTSTART:20240310T100000
END:DAYLIGHT
BEGIN:STANDARD
TZOFFSETFROM:-0700
TZOFFSETTO:-0800
TZNAME:PST
DTSTART:20241103T090000
END:STANDARD
END:VTIMEZONE
BEGIN:VEVENT
DTSTART;TZID=America/Los_Angeles:20241213T190000
DTEND;TZID=America/Los_Angeles:20241213T203000
DTSTAMP:20260421T203332
CREATED:20241212T170143Z
LAST-MODIFIED:20241212T170143Z
UID:3984-1734116400-1734121800@noorcollective.org
SUMMARY:Special Dua Program @ 7:00PM
DESCRIPTION:Special Dua Program on Friday @ 7:00pm\n*Schedule:\n7:00pm: Doors open\n7:05pm: Isha Prayer\n7:15pm: Special duas\n8:15pm: Dinner
URL:https://noorcollective.org/event/special-dua-program-700pm/
END:VEVENT
END:VCALENDAR