BEGIN:VCALENDAR
VERSION:2.0
PRODID:-//Noor Collective - San Diego Shia Islamic Center - ECPv5.1.6//NONSGML v1.0//EN
CALSCALE:GREGORIAN
METHOD:PUBLISH
X-WR-CALNAME:Noor Collective - San Diego Shia Islamic Center
X-ORIGINAL-URL:https://noorcollective.org
X-WR-CALDESC:Events for Noor Collective - San Diego Shia Islamic Center
BEGIN:VTIMEZONE
TZID:America/Los_Angeles
BEGIN:DAYLIGHT
TZOFFSETFROM:-0800
TZOFFSETTO:-0700
TZNAME:PDT
DTSTART:20250309T100000
END:DAYLIGHT
BEGIN:STANDARD
TZOFFSETFROM:-0700
TZOFFSETTO:-0800
TZNAME:PST
DTSTART:20251102T090000
END:STANDARD
END:VTIMEZONE
BEGIN:VEVENT
DTSTART;TZID=America/Los_Angeles:20250124T190000
DTEND;TZID=America/Los_Angeles:20250124T210000
DTSTAMP:20260421T203519
CREATED:20250122T073847Z
LAST-MODIFIED:20250122T073847Z
UID:3999-1737745200-1737752400@noorcollective.org
SUMMARY:Taqwa - The Only Way Forward
DESCRIPTION:*FRIDAY – Taqwa: The Only Way Forward W/ Shaykh Hassan Akhawan @ 7:00pm*\nSchedule:\n7:00pm: Doors open\n7:05pm: Isha Prayer\n7:15pm: Lecture by Shaykh Hassan\n8:30pm: Dinner \nSpeaker Bio: Shaykh Hassan Akhawan\, born in the UK\, is an active teacher and educator. He formally graduated from the Hawza in 2017 and later earned a Master’s degree in Legal and Political Theory from University College London. With a passion for education and community growth\, he has dedicated himself to teaching and delivering lectures and workshops at various institutions across the globe. \nAll programs are held at: 7969 ENGINEER RD #110\, SAN DIEGO\, CA 92111 https://goo.gl/maps/i2HTdSVmLKjW25XR8
URL:https://noorcollective.org/event/taqwa-the-only-way-forward/
CATEGORIES:Lecture
END:VEVENT
END:VCALENDAR