BEGIN:VCALENDAR
VERSION:2.0
PRODID:-//Noor Collective - San Diego Shia Islamic Center - ECPv5.1.6//NONSGML v1.0//EN
CALSCALE:GREGORIAN
METHOD:PUBLISH
X-WR-CALNAME:Noor Collective - San Diego Shia Islamic Center
X-ORIGINAL-URL:https://noorcollective.org
X-WR-CALDESC:Events for Noor Collective - San Diego Shia Islamic Center
BEGIN:VTIMEZONE
TZID:America/Los_Angeles
BEGIN:DAYLIGHT
TZOFFSETFROM:-0800
TZOFFSETTO:-0700
TZNAME:PDT
DTSTART:20260308T100000
END:DAYLIGHT
BEGIN:STANDARD
TZOFFSETFROM:-0700
TZOFFSETTO:-0800
TZNAME:PST
DTSTART:20261101T090000
END:STANDARD
END:VTIMEZONE
BEGIN:VEVENT
DTSTART;TZID=America/Los_Angeles:20260130T190000
DTEND;TZID=America/Los_Angeles:20260130T210000
DTSTAMP:20260419T063146
CREATED:20260129T160712Z
LAST-MODIFIED:20260129T160712Z
UID:4181-1769799600-1769806800@noorcollective.org
SUMMARY:Temporary Marriage & Polygamy?
DESCRIPTION:Schedule:\n7:00pm: Doors open\n7:05pm: Isha Prayers\n7:25pm: Quran\n7:35pm: Lecture by Seyed Ali\n8:55pm: Dinner \nAll programs are held at:  7969 ENGINEER RD #110\, SAN DIEGO\, CA 92111 https://goo.gl/maps/i2HTdSVmLKjW25XR8
URL:https://noorcollective.org/event/temporary-marriage-polygamy/
CATEGORIES:Lecture
END:VEVENT
END:VCALENDAR