BEGIN:VCALENDAR
VERSION:2.0
PRODID:-//Noor Collective - San Diego Shia Islamic Center - ECPv5.1.6//NONSGML v1.0//EN
CALSCALE:GREGORIAN
METHOD:PUBLISH
X-WR-CALNAME:Noor Collective - San Diego Shia Islamic Center
X-ORIGINAL-URL:https://noorcollective.org
X-WR-CALDESC:Events for Noor Collective - San Diego Shia Islamic Center
BEGIN:VTIMEZONE
TZID:America/Los_Angeles
BEGIN:DAYLIGHT
TZOFFSETFROM:-0800
TZOFFSETTO:-0700
TZNAME:PDT
DTSTART:20210314T100000
END:DAYLIGHT
BEGIN:STANDARD
TZOFFSETFROM:-0700
TZOFFSETTO:-0800
TZNAME:PST
DTSTART:20211107T090000
END:STANDARD
END:VTIMEZONE
BEGIN:VEVENT
DTSTART;TZID=America/Los_Angeles:20210326T193000
DTEND;TZID=America/Los_Angeles:20210326T210000
DTSTAMP:20260421T120814
CREATED:20210322T211650Z
LAST-MODIFIED:20210322T212421Z
UID:3217-1616787000-1616792400@noorcollective.org
SUMMARY:The Companions of Saturday - A Look At How We Are All Connected
DESCRIPTION:During this week’s session\, Seyed Ali will go over the Quranic story of the “Companions of Saturday.” Who were these people and what did they do that was so important that Allah spoke about them in the Quran? This story is key to understanding the interconnectedness of society and how everything we do has consequences far beyond what we can imagine…. \nSchedule: \n7:30PM PST: Speech/Q&A by Seyed Ali \nOnline Zoom Link:  https://us02web.zoom.us/j/84191955745?pwd=eEh2anVvcytkMCtaU3o4TmlQNDM0dz09 \nPassword: 095743 \nMeeting Id:  841 9195 5745
URL:https://noorcollective.org/event/the-companions-of-saturday-a-look-at-how-we-are-all-connected/
CATEGORIES:Lecture
END:VEVENT
END:VCALENDAR