BEGIN:VCALENDAR
VERSION:2.0
PRODID:-//Noor Collective - San Diego Shia Islamic Center - ECPv5.1.6//NONSGML v1.0//EN
CALSCALE:GREGORIAN
METHOD:PUBLISH
X-WR-CALNAME:Noor Collective - San Diego Shia Islamic Center
X-ORIGINAL-URL:https://noorcollective.org
X-WR-CALDESC:Events for Noor Collective - San Diego Shia Islamic Center
BEGIN:VTIMEZONE
TZID:America/Los_Angeles
BEGIN:DAYLIGHT
TZOFFSETFROM:-0800
TZOFFSETTO:-0700
TZNAME:PDT
DTSTART:20210314T100000
END:DAYLIGHT
BEGIN:STANDARD
TZOFFSETFROM:-0700
TZOFFSETTO:-0800
TZNAME:PST
DTSTART:20211107T090000
END:STANDARD
END:VTIMEZONE
BEGIN:VEVENT
DTSTART;TZID=America/Los_Angeles:20211022T193000
DTEND;TZID=America/Los_Angeles:20211022T203000
DTSTAMP:20260422T071426
CREATED:20211007T220722Z
LAST-MODIFIED:20211022T050714Z
UID:3333-1634931000-1634934600@noorcollective.org
SUMMARY:The Death of the Prophet: What Really Happened?
DESCRIPTION:When we look at the life of the Prophet\, we see that he was able to change the course of human history in a very short period of time. Join us this week\, as we go into what happened during the last few weeks of his life and how those events changed the destiny of the Muslim community forever. \nSchedule: \n7:30pm PST: Speech/Q&A \nZoom Link: https://us02web.zoom.us/j/81085089823?pwd=UzdNa2kwZ1doYVlLSDZMbFQrdU1Rdz09 \nPassword: 972414 \nMeeting ID: 810 8508 9823 \n\n\n\n 
URL:https://noorcollective.org/event/the-death-of-the-prophet-what-really-happened/
CATEGORIES:Lecture
END:VEVENT
END:VCALENDAR