BEGIN:VCALENDAR
VERSION:2.0
PRODID:-//Noor Collective - San Diego Shia Islamic Center - ECPv5.1.6//NONSGML v1.0//EN
CALSCALE:GREGORIAN
METHOD:PUBLISH
X-WR-CALNAME:Noor Collective - San Diego Shia Islamic Center
X-ORIGINAL-URL:https://noorcollective.org
X-WR-CALDESC:Events for Noor Collective - San Diego Shia Islamic Center
BEGIN:VTIMEZONE
TZID:America/Los_Angeles
BEGIN:DAYLIGHT
TZOFFSETFROM:-0800
TZOFFSETTO:-0700
TZNAME:PDT
DTSTART:20240310T100000
END:DAYLIGHT
BEGIN:STANDARD
TZOFFSETFROM:-0700
TZOFFSETTO:-0800
TZNAME:PST
DTSTART:20241103T090000
END:STANDARD
END:VTIMEZONE
BEGIN:VEVENT
DTSTART;TZID=America/Los_Angeles:20240524T190000
DTEND;TZID=America/Los_Angeles:20240524T210000
DTSTAMP:20260421T134118
CREATED:20240523T120440Z
LAST-MODIFIED:20240523T120451Z
UID:3819-1716577200-1716584400@noorcollective.org
SUMMARY:The Great Prophets' of God Series- Sulaiman (a) @ 7:00 PM!
DESCRIPTION:Join us in this week’s discussion as we go over the life of Prophet Sulaiman(a) and why he matters in today’s world.\nSchedule:\n6:55pm: Door Opens\n7:00pm: Lecture by Seyed Ali / Q&A\n7:55pm: Prayers\n8:10pm: Dinner \nAddress: 7969 ENGINEER RD #110\, SAN DIEGO\, CA 92111 https://goo.gl/maps/i2HTdSVmLKjW25XR8
URL:https://noorcollective.org/event/the-great-prophets-of-god-series-sulaiman-a-700-pm/
LOCATION:Noor Collective\, 7969 ENGINEER RD #110\, San diego\, CA\, 92111\, United States
END:VEVENT
END:VCALENDAR