BEGIN:VCALENDAR
VERSION:2.0
PRODID:-//Noor Collective - San Diego Shia Islamic Center - ECPv5.1.6//NONSGML v1.0//EN
CALSCALE:GREGORIAN
METHOD:PUBLISH
X-WR-CALNAME:Noor Collective - San Diego Shia Islamic Center
X-ORIGINAL-URL:https://noorcollective.org
X-WR-CALDESC:Events for Noor Collective - San Diego Shia Islamic Center
BEGIN:VTIMEZONE
TZID:America/Los_Angeles
BEGIN:DAYLIGHT
TZOFFSETFROM:-0800
TZOFFSETTO:-0700
TZNAME:PDT
DTSTART:20240310T100000
END:DAYLIGHT
BEGIN:STANDARD
TZOFFSETFROM:-0700
TZOFFSETTO:-0800
TZNAME:PST
DTSTART:20241103T090000
END:STANDARD
END:VTIMEZONE
BEGIN:VEVENT
DTSTART;TZID=America/Los_Angeles:20241108T190000
DTEND;TZID=America/Los_Angeles:20241108T190000
DTSTAMP:20260421T222219
CREATED:20241106T232759Z
LAST-MODIFIED:20241106T232759Z
UID:3958-1731092400-1731092400@noorcollective.org
SUMMARY:The Hadith of The Ten Promised Paradise
DESCRIPTION:Schedule:\n7:00pm: Doors open\n7:05pm: Isha Prayer\n7:15pm: Lecture by Seyed Ali Musawi\n8:15pm: Dinner \nAll programs are held at: 7969 ENGINEER RD #110\, SAN DIEGO\, CA 92111 https://goo.gl/maps/i2HTdSVmLKjW25XR8
URL:https://noorcollective.org/event/the-hadith-of-the-ten-promised-paradise/
CATEGORIES:Lecture
ATTACH;FMTTYPE=image/png:https://noorcollective.org/wp-content/uploads/YMA_NOV8_2024-3.png
END:VEVENT
END:VCALENDAR