BEGIN:VCALENDAR
VERSION:2.0
PRODID:-//Noor Collective - San Diego Shia Islamic Center - ECPv5.1.6//NONSGML v1.0//EN
CALSCALE:GREGORIAN
METHOD:PUBLISH
X-WR-CALNAME:Noor Collective - San Diego Shia Islamic Center
X-ORIGINAL-URL:https://noorcollective.org
X-WR-CALDESC:Events for Noor Collective - San Diego Shia Islamic Center
BEGIN:VTIMEZONE
TZID:America/Los_Angeles
BEGIN:DAYLIGHT
TZOFFSETFROM:-0800
TZOFFSETTO:-0700
TZNAME:PDT
DTSTART:20220313T100000
END:DAYLIGHT
BEGIN:STANDARD
TZOFFSETFROM:-0700
TZOFFSETTO:-0800
TZNAME:PST
DTSTART:20221106T090000
END:STANDARD
END:VTIMEZONE
BEGIN:VEVENT
DTSTART;TZID=America/Los_Angeles:20221104T190000
DTEND;TZID=America/Los_Angeles:20221104T200000
DTSTAMP:20260422T150634
CREATED:20221026T145613Z
LAST-MODIFIED:20221110T143846Z
UID:3496-1667588400-1667592000@noorcollective.org
SUMMARY:The Hijab Controversy Part 2
DESCRIPTION:  \nJoin us this week at 7pm PST as we dive more into depth on some of the more pressing issues regarding the Hijab— 1. Is the hijab even discussed in the Quran? If so\, where and in what context? 2. Is the Hijab necessary in our world today? 3. Was the Hijab enforced during the time of the Prophet (s)? 4. Why is the Hijab always discussed in relation to women and not men? Isn’t this unfair? 5. Can the hijab be enforced in a modern-day Islamic government? 6. What is the true meaning of the verse that says: There is no compulsion in religion? \nZoom link: https://us02web.zoom.us/j/85016107896?pwd=N0hIOFZUaHhLK0tHMlBaaWExQXBmUT09 \nMeeting ID: 850 1610 7896 \n\nPasscode: 571355
URL:https://noorcollective.org/event/the-hijab-controversy-part-2/
CATEGORIES:Lecture
ATTACH;FMTTYPE=image/png:https://noorcollective.org/wp-content/uploads/YMA_OCT21_2022-1-1.png
END:VEVENT
END:VCALENDAR