BEGIN:VCALENDAR
VERSION:2.0
PRODID:-//Noor Collective - San Diego Shia Islamic Center - ECPv5.1.6//NONSGML v1.0//EN
CALSCALE:GREGORIAN
METHOD:PUBLISH
X-WR-CALNAME:Noor Collective - San Diego Shia Islamic Center
X-ORIGINAL-URL:https://noorcollective.org
X-WR-CALDESC:Events for Noor Collective - San Diego Shia Islamic Center
BEGIN:VTIMEZONE
TZID:America/Los_Angeles
BEGIN:DAYLIGHT
TZOFFSETFROM:-0800
TZOFFSETTO:-0700
TZNAME:PDT
DTSTART:20210314T100000
END:DAYLIGHT
BEGIN:STANDARD
TZOFFSETFROM:-0700
TZOFFSETTO:-0800
TZNAME:PST
DTSTART:20211107T090000
END:STANDARD
END:VTIMEZONE
BEGIN:VEVENT
DTSTART;TZID=America/Los_Angeles:20211029T193000
DTEND;TZID=America/Los_Angeles:20211029T203000
DTSTAMP:20260422T100750
CREATED:20211027T072153Z
LAST-MODIFIED:20211027T072503Z
UID:3338-1635535800-1635539400@noorcollective.org
SUMMARY:The Life and Death of the Holy Prophet Part 2
DESCRIPTION:When we look at the life of the Prophet\, we see that he was able to change the course of human history in a very short period of time. Join us this week\, as we go into what happened during his life and how those events changed the destiny of the Muslim community forever. \nSchedule: \n7:30pm PST: Speech/Q&A \nZoom Link: https://us02web.zoom.us/j/87523924574?pwd=Y3M2OVBFZFhTdHhPZ0J2S0grNjl1UT09 \nPassword: 051777 \nMeeting ID: 875 2392 4574
URL:https://noorcollective.org/event/the-life-and-death-of-the-holy-prophet-part-2/
CATEGORIES:Lecture
END:VEVENT
END:VCALENDAR