BEGIN:VCALENDAR
VERSION:2.0
PRODID:-//Noor Collective - San Diego Shia Islamic Center - ECPv5.1.6//NONSGML v1.0//EN
CALSCALE:GREGORIAN
METHOD:PUBLISH
X-WR-CALNAME:Noor Collective - San Diego Shia Islamic Center
X-ORIGINAL-URL:https://noorcollective.org
X-WR-CALDESC:Events for Noor Collective - San Diego Shia Islamic Center
BEGIN:VTIMEZONE
TZID:America/Los_Angeles
BEGIN:DAYLIGHT
TZOFFSETFROM:-0800
TZOFFSETTO:-0700
TZNAME:PDT
DTSTART:20210314T100000
END:DAYLIGHT
BEGIN:STANDARD
TZOFFSETFROM:-0700
TZOFFSETTO:-0800
TZNAME:PST
DTSTART:20211107T090000
END:STANDARD
END:VTIMEZONE
BEGIN:VEVENT
DTSTART;TZID=America/Los_Angeles:20210625T190000
DTEND;TZID=America/Los_Angeles:20210625T203000
DTSTAMP:20260421T182723
CREATED:20210624T061431Z
LAST-MODIFIED:20210625T042900Z
UID:3276-1624647600-1624653000@noorcollective.org
SUMMARY:The Life of Imam Ridha (a)
DESCRIPTION:This week’s program is online only: \nJoin us this week\, as we dive into some aspects of the life of Imam Ridha (a). Why was Imam Ridha (a) chosen by Ma’mun to be his successor? More shockingly\, why does the Imam continuously refuse this position but then accept it in the end? What is the story behind the childlessness of Imam Ridha until a late age and why was there controversy over the birth and skin color of his son\, Imam Jawad. Inshallah we will be discussing these issues and more. \nSchedule: \n7:00PM PST: Speech/Q&A by Seyed Ali \nOnline Zoom Link: https://us02web.zoom.us/j/88199649250?pwd=dTFLazltclo3cHpDKzFSdHN2TXE4QT09 \nPassword:  465220 \nMeeting Id:  881 9964 9250
URL:https://noorcollective.org/event/the-life-of-imam-ridha-a/
LOCATION:Zoom
CATEGORIES:Lecture
END:VEVENT
END:VCALENDAR