BEGIN:VCALENDAR
VERSION:2.0
PRODID:-//Noor Collective - San Diego Shia Islamic Center - ECPv5.1.6//NONSGML v1.0//EN
CALSCALE:GREGORIAN
METHOD:PUBLISH
X-WR-CALNAME:Noor Collective - San Diego Shia Islamic Center
X-ORIGINAL-URL:https://noorcollective.org
X-WR-CALDESC:Events for Noor Collective - San Diego Shia Islamic Center
BEGIN:VTIMEZONE
TZID:America/Los_Angeles
BEGIN:DAYLIGHT
TZOFFSETFROM:-0800
TZOFFSETTO:-0700
TZNAME:PDT
DTSTART:20220313T100000
END:DAYLIGHT
BEGIN:STANDARD
TZOFFSETFROM:-0700
TZOFFSETTO:-0800
TZNAME:PST
DTSTART:20221106T090000
END:STANDARD
END:VTIMEZONE
BEGIN:VEVENT
DTSTART;TZID=America/Los_Angeles:20220211T190000
DTEND;TZID=America/Los_Angeles:20220211T203000
DTSTAMP:20260422T182214
CREATED:20220208T044445Z
LAST-MODIFIED:20220208T044445Z
UID:3388-1644606000-1644611400@noorcollective.org
SUMMARY:The Life Of The Messenger - From Jahilliyah To The Prophet's Demise Part 1
DESCRIPTION:Join us as we explore the life of the Messenger of Islam in this exciting new series. Starting from the very beginning\, we will take a look at how people lived in the Arabian Peninsula before the rise of Islam\, and then continue through all of the major events which helped to shape the course of Islamic history. Join us this Friday for our very first session! \nSchedule: \n7:00pm PST: Speech/Q&A \nhttps://us02web.zoom.us/j/81257825876?pwd=SVdUNE9URWZvUm5VRmNGMDU5VkRQUT09 \nMeeting ID: 812 5782 5876 \n\n\n\n\n\n\n\nPasscode: 384397
URL:https://noorcollective.org/event/the-life-of-the-messenger-from-jahilliyah-to-the-prophets-demise-part-1/
CATEGORIES:Lecture
ATTACH;FMTTYPE=image/jpeg:https://noorcollective.org/wp-content/uploads/photo_2022-02-07_20-44-12.jpg
END:VEVENT
END:VCALENDAR