BEGIN:VCALENDAR
VERSION:2.0
PRODID:-//Noor Collective - San Diego Shia Islamic Center - ECPv5.1.6//NONSGML v1.0//EN
CALSCALE:GREGORIAN
METHOD:PUBLISH
X-WR-CALNAME:Noor Collective - San Diego Shia Islamic Center
X-ORIGINAL-URL:https://noorcollective.org
X-WR-CALDESC:Events for Noor Collective - San Diego Shia Islamic Center
BEGIN:VTIMEZONE
TZID:America/Los_Angeles
BEGIN:DAYLIGHT
TZOFFSETFROM:-0800
TZOFFSETTO:-0700
TZNAME:PDT
DTSTART:20220313T100000
END:DAYLIGHT
BEGIN:STANDARD
TZOFFSETFROM:-0700
TZOFFSETTO:-0800
TZNAME:PST
DTSTART:20221106T090000
END:STANDARD
END:VTIMEZONE
BEGIN:VEVENT
DTSTART;TZID=America/Los_Angeles:20220701T190000
DTEND;TZID=America/Los_Angeles:20220701T200000
DTSTAMP:20260422T164228
CREATED:20220629T140042Z
LAST-MODIFIED:20220629T140122Z
UID:3469-1656702000-1656705600@noorcollective.org
SUMMARY:The Life Of The Messenger - From Jahilliyah To The Prophet's Demise Part 13
DESCRIPTION:Join us as we explore Part 13 of the life of the Messenger of Islam. Starting from the very beginning\, we will take a look at how people lived in the Arabian Peninsula before the rise of Islam\, and then continue through all of the major events which helped to shape the course of Islamic history. \nZoom link:  https://us02web.zoom.us/j/81985005080?pwd=dWtSZUxtZ1JuaVlneEcvRTNON1Vodz09 \nMeeting ID: 819 8500 5080 \n\n\n\n\n\n\n\nPasscode: 218357
URL:https://noorcollective.org/event/the-life-of-the-messenger-from-jahilliyah-to-the-prophets-demise-part-13/
CATEGORIES:Lecture
END:VEVENT
END:VCALENDAR