BEGIN:VCALENDAR
VERSION:2.0
PRODID:-//Noor Collective - San Diego Shia Islamic Center - ECPv5.1.6//NONSGML v1.0//EN
CALSCALE:GREGORIAN
METHOD:PUBLISH
X-WR-CALNAME:Noor Collective - San Diego Shia Islamic Center
X-ORIGINAL-URL:https://noorcollective.org
X-WR-CALDESC:Events for Noor Collective - San Diego Shia Islamic Center
BEGIN:VTIMEZONE
TZID:America/Los_Angeles
BEGIN:DAYLIGHT
TZOFFSETFROM:-0800
TZOFFSETTO:-0700
TZNAME:PDT
DTSTART:20170312T100000
END:DAYLIGHT
BEGIN:STANDARD
TZOFFSETFROM:-0700
TZOFFSETTO:-0800
TZNAME:PST
DTSTART:20171105T090000
END:STANDARD
END:VTIMEZONE
BEGIN:VEVENT
DTSTART;TZID=America/Los_Angeles:20171109T190000
DTEND;TZID=America/Los_Angeles:20171109T213000
DTSTAMP:20260422T013731
CREATED:20171106T031029Z
LAST-MODIFIED:20171106T031040Z
UID:2136-1510254000-1510263000@noorcollective.org
SUMMARY:[Thurs/Fri] Arbaeen 2017
DESCRIPTION:This year’s Arbaeen program will be two nights long\, starting at 7pm sharp each night. \n\n\n \n\n\nThursday Schedule:\n\n\n7:00PM Quran & Ziyarat Ashura\n\n\n7:30PM Speech/Eulogy by Br. Sarmad Ashoor\n\n\n8:45PM Dinner\n\n\n \n\n\nFriday Schedule: \n\n\n7:00PM Quran / Ziyarat Ashura\n\n\n7:30PM Speech by Sayed Ali Musawi\n\n\n8:10PM Eulogy\n\n\n8:45PM Dinner
URL:https://noorcollective.org/event/thursfri-arbaeen-2017/
LOCATION:Noor Collective\, 7969 ENGINEER RD #110\, San diego\, CA\, 92111\, United States
CATEGORIES:Lecture
ORGANIZER;CN="Noor%20Collective":MAILTO:sourceseyed@gmail.com
END:VEVENT
END:VCALENDAR