BEGIN:VCALENDAR
VERSION:2.0
PRODID:-//Noor Collective - San Diego Shia Islamic Center - ECPv5.1.6//NONSGML v1.0//EN
CALSCALE:GREGORIAN
METHOD:PUBLISH
X-WR-CALNAME:Noor Collective - San Diego Shia Islamic Center
X-ORIGINAL-URL:https://noorcollective.org
X-WR-CALDESC:Events for Noor Collective - San Diego Shia Islamic Center
BEGIN:VTIMEZONE
TZID:America/Los_Angeles
BEGIN:DAYLIGHT
TZOFFSETFROM:-0800
TZOFFSETTO:-0700
TZNAME:PDT
DTSTART:20210314T100000
END:DAYLIGHT
BEGIN:STANDARD
TZOFFSETFROM:-0700
TZOFFSETTO:-0800
TZNAME:PST
DTSTART:20211107T090000
END:STANDARD
END:VTIMEZONE
BEGIN:VEVENT
DTSTART;TZID=America/Los_Angeles:20210212T193000
DTEND;TZID=America/Los_Angeles:20210212T210000
DTSTAMP:20260421T120654
CREATED:20210201T060756Z
LAST-MODIFIED:20210204T194528Z
UID:3189-1613158200-1613163600@noorcollective.org
SUMMARY:Toxic Family Gatherings With Sheikh Mahdi Rastani Part 2
DESCRIPTION:This will be an online only program.  \nWe’re honored to have Shaykh Mahdi Rastani from Dallas\, Texas speaking on Friday Feb 12th. \nShaykh Mahdi was born and raised in the US. After finishing high school\, he spent 9 years studying at the Islamic Seminary before returning back to the US.  He is currently assisting a Shia Islamic school\, Wisdom Academy and he is the resident alim of City of Knowledge Islamic center in Dallas\, Texas. \nThe topic for this program will be how to navigate toxic family gatherings. What should we do when there are irreligious\, annoying\, and toxic relatives around? \n  \nSchedule:\n7:30PM-9:00PM PST time: Speech / Q&A \nZoom Link:  https://us02web.zoom.us/j/87276636358?pwd=MXRzTE1HNFBVOXJMSG1zRWFLZXlFUT09 \nMeeting ID: 872 7663 6358 \n\nMeeting Password:  450271
URL:https://noorcollective.org/event/toxic-family-gatherings-with-sheikh-mahdi-rastani-part-2/
CATEGORIES:Lecture
ATTACH;FMTTYPE=image/png:https://noorcollective.org/wp-content/uploads/YMA_FEB5-12_2021-copy-1.png
END:VEVENT
END:VCALENDAR