BEGIN:VCALENDAR
VERSION:2.0
PRODID:-//Noor Collective - San Diego Shia Islamic Center - ECPv5.1.6//NONSGML v1.0//EN
CALSCALE:GREGORIAN
METHOD:PUBLISH
X-WR-CALNAME:Noor Collective - San Diego Shia Islamic Center
X-ORIGINAL-URL:https://noorcollective.org
X-WR-CALDESC:Events for Noor Collective - San Diego Shia Islamic Center
BEGIN:VTIMEZONE
TZID:America/Los_Angeles
BEGIN:DAYLIGHT
TZOFFSETFROM:-0800
TZOFFSETTO:-0700
TZNAME:PDT
DTSTART:20180311T100000
END:DAYLIGHT
BEGIN:STANDARD
TZOFFSETFROM:-0700
TZOFFSETTO:-0800
TZNAME:PST
DTSTART:20181104T090000
END:STANDARD
END:VTIMEZONE
BEGIN:VEVENT
DTSTART;TZID=America/Los_Angeles:20181012T190000
DTEND;TZID=America/Los_Angeles:20181012T213000
DTSTAMP:20260422T022721
CREATED:20181011T051015Z
LAST-MODIFIED:20181011T051015Z
UID:2518-1539370800-1539379800@noorcollective.org
SUMMARY:Trivia Night!
DESCRIPTION:If you’re a frequent visitor to our programs\, you’ll know that we like to mix things up every now and then. After having speeches for the last few Friday nights\, it’s time to test what you’ve learnt so far. Please join us this Friday night as we host our Trivia night with questions ranging from purely Islamic to worldy questions! \nSchedule: \n7:00PM: Prayers \n7:30PM: Trivia \n8:30PM: Dinner
URL:https://noorcollective.org/event/trivia-night/
LOCATION:Noor Collective\, 7969 ENGINEER RD #110\, San diego\, CA\, 92111\, United States
ATTACH;FMTTYPE=image/png:https://noorcollective.org/wp-content/uploads/unnamed-1-1.png
ORGANIZER;CN="Noor%20Collective":MAILTO:sourceseyed@gmail.com
END:VEVENT
END:VCALENDAR