BEGIN:VCALENDAR
VERSION:2.0
PRODID:-//Noor Collective - San Diego Shia Islamic Center - ECPv5.1.6//NONSGML v1.0//EN
CALSCALE:GREGORIAN
METHOD:PUBLISH
X-WR-CALNAME:Noor Collective - San Diego Shia Islamic Center
X-ORIGINAL-URL:https://noorcollective.org
X-WR-CALDESC:Events for Noor Collective - San Diego Shia Islamic Center
BEGIN:VTIMEZONE
TZID:America/Los_Angeles
BEGIN:DAYLIGHT
TZOFFSETFROM:-0800
TZOFFSETTO:-0700
TZNAME:PDT
DTSTART:20170312T100000
END:DAYLIGHT
BEGIN:STANDARD
TZOFFSETFROM:-0700
TZOFFSETTO:-0800
TZNAME:PST
DTSTART:20171105T090000
END:STANDARD
END:VTIMEZONE
BEGIN:VEVENT
DTSTART;TZID=America/Los_Angeles:20171217T140000
DTEND;TZID=America/Los_Angeles:20171217T163000
DTSTAMP:20260422T075851
CREATED:20171215T111519Z
LAST-MODIFIED:20171215T111519Z
UID:2157-1513519200-1513528200@noorcollective.org
SUMMARY:Virgin Mary: An Interfaith Movie Screening
DESCRIPTION:Maryam Moqaddas\, which translates to Holy Mary or Virgin Mary\, is a beautiful film about the life of Mary\, mother of Jesus\, produced in 1997 in the Islamic Republic of Iran and later dubbed into the English language. \nThe Noor Collective is humbled to be able to present a free screening of the film in a special interfaith gathering at the Malcolm X Library in honor of the birth anniversary of Jesus. \nThe Prophet Muhammad signed a covenant with Christians of the world during his time and that covenant was not to expire until the end of time. Muslims and Christians have common ground in the love and adoration for the holy Mary\, mother of the Holy Messiah Jesus\, and the principles and values they espoused to the world. \nChristians and Muslims are welcome to attend this free screening – seating is limited\, first come first serve. The film is just under 2 hours long.
URL:https://noorcollective.org/event/virgin-mary-interfaith-movie-screening/
LOCATION:SDPL Valencia Park/Malcolm X Branch Library\, 5148 Market St\, San Diego\, California 92114\, San Diego\, CA\, 92114\, United States
ATTACH;FMTTYPE=image/jpeg:https://noorcollective.org/wp-content/uploads/23659262_1653509048039799_3586099203842607154_n.jpg
ORGANIZER;CN="Noor%20Collective":MAILTO:sourceseyed@gmail.com
END:VEVENT
END:VCALENDAR